BEGIN:VCALENDAR
VERSION:2.0
PRODID:-//Rhythm and Roots - ECPv6.15.13.1//NONSGML v1.0//EN
CALSCALE:GREGORIAN
METHOD:PUBLISH
X-WR-CALNAME:Rhythm and Roots
X-ORIGINAL-URL:https://rhythmandroots.org
X-WR-CALDESC:Events for Rhythm and Roots
REFRESH-INTERVAL;VALUE=DURATION:PT1H
X-Robots-Tag:noindex
X-PUBLISHED-TTL:PT1H
BEGIN:VTIMEZONE
TZID:America/Phoenix
BEGIN:STANDARD
TZOFFSETFROM:-0700
TZOFFSETTO:-0700
TZNAME:MST
DTSTART:20250101T000000
END:STANDARD
END:VTIMEZONE
BEGIN:VEVENT
DTSTART;TZID=America/Phoenix:20260517T193000
DTEND;TZID=America/Phoenix:20260517T213000
DTSTAMP:20260423T030450
CREATED:20260316T233503Z
LAST-MODIFIED:20260415T195226Z
UID:8829-1779046200-1779053400@rhythmandroots.org
SUMMARY:Jeff Messina
DESCRIPTION:This show is a seated show \n\n\n\nVenue doors open at 6:45pmShow starts at 7:30pmSisters Restaurant and Bar opens at 5pm  Reservations and info:  www.sisterstucson.com \n\n\n\nTickets start at $50 An undisputed expert in the fine art of making hit music\, JIM MESSINA’s legacy of musical genius spans five decades\, three super groups\, a vibrant solo career and scores of producing and engineering credits. \n\n\n\nWhile acting as producer/audio engineer for Rock & Roll Hall of Famers Buffalo Springfield\, Messina ultimately joined the band as its bass player.  When “the Springfield” disbanded in 1968\, Jim and fellow bandmate Richie Furay formed Poco.  With Jim on lead guitar\, Poco defined a new musical genre\, Country Rock.   \n\n\n\nAfter three successful albums\, Jim was ready for a change and left to return to his passion for producing music.  He signed as an independent producer with Columbia Records. \n\n\n\nIn November 1970\, Columbia asked Jim to work with an unknown Kenny Loggins.  While helping Kenny get ready for a record and touring\, the two discovered that they worked well together and Jim agreed to sit in on Kenny’s first album.  Kenny Loggins with Jim Messina Sittin’ In was released in November of 1971 and an accidental duo was formed. \n\n\n\nOver the next seven years\, Loggins & Messina released eight hit albums\, had scores of hit songs and sold over 16 million albums.  They had become one of rock’s most successful recording duos ever\, but it was time for the duo to go their separate ways. \n\n\n\nAfter a series of celebrated solo acoustic tours\, Jim formed a band made of acclaimed musicians who have played with him at various points in his career. With his new band\, The Road Runners\, Jim released his latest live album Here\, There & Everywhere. \n\n\n\nTouring the country and playing sold-out shows\, Jim says that he’s enjoying discovering who he is\, where he’s been and\, most significantly\, where he’s going.
URL:https://rhythmandroots.org/event/jeff-messina/
LOCATION:La Rosa Tucson\, 800 N Country Club Road\, Tucson\, AZ\, 85716\, United States
ATTACH;FMTTYPE=image/jpeg:https://rhythmandroots.org/wp-content/uploads/2026/03/messina-1.jpeg
END:VEVENT
BEGIN:VEVENT
DTSTART;TZID=America/Phoenix:20260613T193000
DTEND;TZID=America/Phoenix:20260613T213000
DTSTAMP:20260423T030450
CREATED:20260414T020512Z
LAST-MODIFIED:20260415T195450Z
UID:8848-1781379000-1781386200@rhythmandroots.org
SUMMARY:Charlie Musselewhite
DESCRIPTION:Sisters Bar & Restaurant opens at 5pm. Information and reservations here.Doors at 6:30pm/Show at 7:30pmA SEATED SHOW \n\n\n\nCharlie Musselwhite’s journey through the blues was from his birth in Mississippi to Memphis\, Chicago and California. Arriving in Chicago in the early sixties\, he was just in time for the epochal blues revival. In 1966 at the age of 22 he recorded the landmark Stand Back! to rave reviews. A precipitous relocation to San Francisco in 1967\, where his album was being played on underground radio\, found him welcomed into the counterculture scene around the Fillmore West as an authentic purveyor of the real deal blues.  \n\n\n\nCharlie Musselwhite is living proof that great music only gets better with age. This man cut his (musical) teeth alongside Muddy Waters\, Howling Wolf and everyone on the South side of Chicago in the early 1960’s. Thank your lucky stars that he is still with us telling the truth with a voice and harp tone like no other. \n\n\n\nMore than 20 albums later he is at the top of his game\, a revered elder statesman of the blues nowhere near ready to hang up his harps\, his depth of expression as a singer and an instrumentalist unexcelled and only growing deeper. \n\n\n\nCharlie has been collaborating with the world’s finest Artists for many years\, including Ben Harper\, Cyndi Lauper\, Eddie Vedder\, Tom Waits\, Bonnie Raitt\, The Blind Boys of Alabama\, Gov’t Mule\, INXS\, Mickey Hart and Japan’s Kodo Drummers\, George Thorogood\, Eliades Ochoa\, Cat Stevens and personal friend and best man at his wedding John Lee Hooker. \n\n\n\nIn an era when the term legendary gets applied to auto-tuned pop stars\, this singular blues harp player\, singer\, songwriter and guitarist has earned and deserves to be honored as a true master of American classic vernacular music. \n\n\n\n2019 GRAMMY Nominee NO MERCY IN THIS LAND with Ben Harper2014 GRAMMY Winner GET UP with Ben Harper 13-time GRAMMY Nominee33-time Blues Music Award WinnerMany-time Living Blues Award Winner
URL:https://rhythmandroots.org/event/charlie-musselewhite/
LOCATION:La Rosa Tucson\, 800 N Country Club Road\, Tucson\, AZ\, 85716\, United States
ATTACH;FMTTYPE=image/jpeg:https://rhythmandroots.org/wp-content/uploads/2026/04/eyJidWNrZXQiOiJwcm9kLXNpaC5zZWV0aWNrZXRzdXNhLnVzIiwia2V5IjoiNjc1ZGEzM2YtZDkwMC00ZTJjLTlmMjMtMTc3YjBkMDgwMzYyIiwiZWRpdHMiOnt9fQ-e1776132280150.jpeg
END:VEVENT
BEGIN:VEVENT
DTSTART;TZID=America/Phoenix:20260626T193000
DTEND;TZID=America/Phoenix:20260626T213000
DTSTAMP:20260423T030450
CREATED:20260414T023003Z
LAST-MODIFIED:20260415T195942Z
UID:8852-1782502200-1782509400@rhythmandroots.org
SUMMARY:Both Sides Now: The Music and Lives of Joni Mitchell + Leonard Cohen
DESCRIPTION:Sisters Bar & Restaurant opens at 5pm. Information and reservations here.Doors at 6:30pm/Show at 7:30pmA SEATED SHOW \n\n\n\n    “Two singer-songwriters sit on the edge of a cliff…” \n\n\n\nWith these words\, we are drawn into the world of Both Sides Now – a theatrical concert that explores the music and lives of long-time friends and one-time lovers\, Joni Mitchell and Leonard Cohen. Created by\, and starring Robbie Schaefer and Danielle Wertz\, the cabaret-style performance traverses decades alongside songs such as A Case of You\, Hallelujah\, Big Yellow Taxi\, Suzanne\, and many more. Both Sides Now is at once a piece of the 60’s and 70’s\, and of right now — offering us a story about the messiness of being human\, of lives persistently lived at the edge of growth\, and of finding the courage to turn toward one another\, again and again. \n\n\n\nRobbie Schaefer – Robbie is a rabbi\, singer-songwriter and theatre/film artist. The guitarist and songwriter for the indie folk band Eddie From Ohio has several solo releases as well\, including the 2023 single Under the Sun. \n\n\n\nHe is the founder of Lamplighters\, an online community that cultivates small-batch\, relationship-driven\, inclusive Judaism. Also he\, is the founder of OneVoice\, an international non-profit that unites and empowers youth through music and the creative arts. The organization was active from 2011-2023 and completed projects in Tanzania\, Nicaragua\, India\, Greece\, and Israel. \n\n\n\nRobbie has shared the stage with Jason Mraz\, Sara Bareilles\, Josh Groban\, Keb ‘ Mo\, and Emmylou Harris\, among others. His first work for musical theater\, Light Years\, which explores his relationship with his father\, a Holocaust survivor\, saw its world premiere at the Tony Award-winning Signature Theatre in 2018. The musical is now a feature film entitled Burst The Silence (Rolling Pictures)\, which released on streaming platforms in 2025. \n\n\n\nDanielle Wertz – Danielle is a storyteller\, collaborator\, jazz musician\, composer and arranger. Her voice—described by DownBeat Magazine as “evocative… remarkably intimate\, expressive and poignant”—has earned her an international following as a jazz artist and growing recognition across disciplines. \n\n\n\n​Wertz began her career deeply rooted in the jazz tradition\, gaining early acclaim as the youngest semi-finalist in the 2015 Thelonious Monk Jazz Competition and runner-up in the 2017 Ella Fitzgerald Jazz Vocal Competition. After releasing two small ensemble albums as a bandleader and a third with Denmark’s Nordkraft Big Band that earned a 2026 GRAMMY® Award\, Danielle has affirmed her singular voice in contemporary vocal jazz and continues to expand her presence in genre-blurring large ensemble work. \n\n\n\nAfter completing her first European tour as a bandleader in the fall\, Danielle remains an avid collaborator internationally and at home in the NYC creative music scene. She is looking forward to being the featured artist on two major interdisciplinary projects in 2026: a Harriet Steinke original work commissioned by Beth Morrison Projects\, and a crossover jazz opera composed by Ben Morris with a libretto by Gina Stevensen.
URL:https://rhythmandroots.org/event/both-sides-now-the-music-and-lives-of-joni-mitchell-leonard-cohen/
LOCATION:La Rosa Tucson\, 800 N Country Club Road\, Tucson\, AZ\, 85716\, United States
ATTACH;FMTTYPE=image/jpeg:https://rhythmandroots.org/wp-content/uploads/2026/04/eyJidWNrZXQiOiJwcm9kLXNpaC5zZWV0aWNrZXRzdXNhLnVzIiwia2V5IjoiNWQwZWQ5MGMtMTlkNC00OTU3LWIxNWQtZmZhYzViNGFhNjJjIiwiZWRpdHMiOnt9fQ-e1776133774596.jpg
END:VEVENT
END:VCALENDAR